BEGIN:VCALENDAR
VERSION:2.0
PRODID:-//YourOrganization//EventDownload//DE
CALSCALE:GREGORIAN
METHOD:PUBLISH
BEGIN:VEVENT
UID:69e8b600359e0@leapup.bitshifters.cloud
DTSTAMP:20260422T135024Z
DTSTART:20250130T090000Z
DTEND:20250130T170000Z
SUMMARY:18th Research Festival for Life Sciences
DESCRIPTION:On 30 January 2025\, the Faculty of Medicine and the Faculty of Life Sciences at Leipzig University cordially invite you to the 18th Research Festival for Life Sciences. Since its foundation in 2002\, the festival has been promoting young scientists and has developed into a successful platform for Leipzig's research landscape and the surrounding region. Last year\, a record 220 abstracts were submitted.
LOCATION:Studienzentrum Medizinische Fakultät\, Liebigstraße 27\, 04103 Leipzig
END:VEVENT
END:VCALENDAR
