BEGIN:VCALENDAR
VERSION:2.0
PRODID:-//YourOrganization//EventDownload//DE
CALSCALE:GREGORIAN
METHOD:PUBLISH
BEGIN:VEVENT
UID:69e8c96ddc73d@leapup.bitshifters.cloud
DTSTAMP:20260422T151317Z
DTSTART:20250111T000000Z
DTEND:20250111T000000Z
SUMMARY:1ST ANNUAL BIOPHARMA OBESITY INNOVATION FORUM
DESCRIPTION:The comprehensive programme for the BOIF will feature over 7 hours of high-level keynotes\, panel discussions\, and corporate presentations covering all aspects of the bio-pharma obesity science and market\, including drug development and technology\, as well as highlighting investment opportunities. The sessions will be made available on demand for the virtual audience the week after the JP Morgan meeting. This forum will also set the stage for our first Obesity focused European event scheduled for the 17th - 19th of June 2025 in Leipzig. Key topics to be covered at the upcoming event include:\n \nSaturday\, 11th of January:\n\nFireside Chat with Dr. Bei B. Zhang\, Corporate VP &amp\; TA Head - Diabetes\, Obesity &amp\; MASH\, Novo Nordisk A/S\nPotential Magnitude of Market &amp\; Impact on the Healthcare System Panel\nBioPharma Dealmaking: Building the Pipeline Panel\nPersonalized Approaches to Treating Obesity Panel\nUnmet Needs &amp\; NextGen Therapeutics Panel\nObesity\, Cardiovascular &amp\; Metabolic Diseases Platforms Panel\nInnovation in Digital\, Tech &amp\; Dx for Obesity\, Diabetes &amp\; MASH Panel\nInvestor Roundtable\n\nMore information here!
LOCATION:Marines' Memorial Club & Hotel\, 609 Sutter St\, 94102 San Francisco\, CA 
END:VEVENT
END:VCALENDAR
