BEGIN:VCALENDAR
VERSION:2.0
PRODID:-//YourOrganization//EventDownload//DE
CALSCALE:GREGORIAN
METHOD:PUBLISH
BEGIN:VEVENT
UID:69e4ce904d51e@leapup.bitshifters.cloud
DTSTAMP:20260419T144608Z
DTSTART:20250611T000000Z
DTEND:20250612T000000Z
SUMMARY:1ST ANNUAL EUROPEAN BIOPHARMA OBESITY INNOVATION FORUM
DESCRIPTION:The 1st Annual EBOIF builds on the strong foundation of our San Francisco event\, which attracted nearly 300 delegates. This European edition will highlight cutting-edge academic research\, explore the European obesity landscape\, and showcase the latest advances in drug development\, treatment approaches\, and investment opportunities. The event is supported by the City of Leipzig and hosted by leap:up GmbH. Our comprehensive two-day programme includes: \n\n10+ hours of high-level keynotes\, panel discussions\, and corporate &amp\; scientific presentations \nInsights into drug development\, technology innovations\, and investment trends \nOn-demand session access from the 18th of June for virtual participants \n\nRegister now!
LOCATION:The Westin Leipzig\, Gerberstraße 15\, 04105 Leipzig
END:VEVENT
END:VCALENDAR
