BEGIN:VCALENDAR
VERSION:2.0
PRODID:-//YourOrganization//EventDownload//DE
CALSCALE:GREGORIAN
METHOD:PUBLISH
BEGIN:VEVENT
UID:69e8adde90f3d@leapup.bitshifters.cloud
DTSTAMP:20260422T131542Z
DTSTART:20250813T170000Z
DTEND:20250813T200000Z
SUMMARY:1st GMP regulars' table
DESCRIPTION:We cordially invite you to our new GMP regulars' table - an open exchange format for specialists and managers from the GMP-regulated environment. It is aimed in particular at experts from manufacturing\, quality assurance\, quality control\, regulatory affairs and other areas involved in the production and release of medicinal products and/or medical devices.Look forward to a practical exchange on current challenges\, regulatory developments and proven solutions from everyday GMP work.\n📅 When? Wednesday\, 13 August 2025\, from 17:00📍 Where? DRESDEN 1900 Museumsgastronomie am Neumarkt (An der Frauenkirche 20\, 01067 Dresden)
LOCATION:DRESDEN 1900 Museumsgastronomie\, An d. Frauenkirche 20\, 01067 Dresden
END:VEVENT
END:VCALENDAR
