BEGIN:VCALENDAR
VERSION:2.0
PRODID:-//YourOrganization//EventDownload//DE
CALSCALE:GREGORIAN
METHOD:PUBLISH
BEGIN:VEVENT
UID:69e7442ac37cb@leapup.bitshifters.cloud
DTSTAMP:20260421T113226Z
DTSTART:20240912T130000Z
DTEND:20240914T130000Z
SUMMARY:23rd Annual Conference of the German Society for Computer- and Robot-Assisted Surgery e. V.
DESCRIPTION:The&nbsp\;CURAC 2024&nbsp\;will be attended by leading experts and scientists who will exchange views on the latest developments and innovations in medical technology. At Villa Ida\, they will not only find an inspiring environment\, but also state-of-the-art technical equipment for lectures\, discussions and presentations.\nFor more information and to register
LOCATION:Mediencampus Villa Ida\, Poetenweg 28\, 04155 Leipzig
END:VEVENT
END:VCALENDAR
