BEGIN:VCALENDAR
VERSION:2.0
PRODID:-//YourOrganization//EventDownload//DE
CALSCALE:GREGORIAN
METHOD:PUBLISH
BEGIN:VEVENT
UID:69e8c6b1d439b@leapup.bitshifters.cloud
DTSTAMP:20260422T150137Z
DTSTART:20180608T130000Z
DTEND:20180609T180000Z
SUMMARY:2nd International Symposium for Molecular Medicine
DESCRIPTION:Research\, Backgrounds and Clinical Use in Molecular Medicine\nClick here for further program information.
LOCATION:Hotel InterContinental Düsseldorf\, Königsallee 59\, 40215 Düsseldorf
END:VEVENT
END:VCALENDAR
