BEGIN:VCALENDAR
VERSION:2.0
PRODID:-//YourOrganization//EventDownload//DE
CALSCALE:GREGORIAN
METHOD:PUBLISH
BEGIN:VEVENT
UID:69e743d69d4ea@leapup.bitshifters.cloud
DTSTAMP:20260421T113102Z
DTSTART:20241009T133000Z
DTEND:20241009T180000Z
SUMMARY:3D regulars' table by MEDICAL FORGE LEIPZIG
DESCRIPTION:Innovation in MedTech and LifeScience through additive manufacturing methods\nExperience the event that brings together leading experts in medical 3D printing! Have an open exchange about successes\, challenges and the latest innovations\, and help shape the future!\nThat's why you need to be there:\n\nExperience the future up close\nExclusive exchange at eye level\nTry out the innovation directly\n\nRegister now for free!
LOCATION:MEDICAL FORGE Leipzig (BIO CITY)\, Deutscher Platz 5c\, 04103 Leipzig
END:VEVENT
END:VCALENDAR
