BEGIN:VCALENDAR
VERSION:2.0
PRODID:-//YourOrganization//EventDownload//DE
CALSCALE:GREGORIAN
METHOD:PUBLISH
BEGIN:VEVENT
UID:69e8a35d99725@leapup.bitshifters.cloud
DTSTAMP:20260422T123053Z
DTSTART:20220605T090000Z
DTEND:20220606T220000Z
SUMMARY:3rd FORUM Science & Health
DESCRIPTION:The theme of this year's conference is the Medicine of the Future. Within the two-day program the 3rd FORUM Science &amp\; Health will highlight latest developments in the fields of innovative technologies and therapeutics\, which will have great impact on the way we approach\, prevent\, diagnose and treat diseases in the future.\nAt the Forum\, you will have the opportunity to:\n\n\nMeet international experts in an inspiring atmosphere\n\n\nGain insights into outstanding R&amp\;D activities\n\n\nTake part in interactive sessions and discuss current topics\n\n\nPitch your research ideas and share your expertise\n\n\nEnjoy networking and an entertaining evening event\n\n\nProgram and Registration
LOCATION:Veranstaltungsforum Fuerstenfeld \, Fürstenfeld 12 (navigation system: 82256\, Zisterzienserweg)\, 82256 Fürstenfeldbruck
END:VEVENT
END:VCALENDAR
