BEGIN:VCALENDAR
VERSION:2.0
PRODID:-//YourOrganization//EventDownload//DE
CALSCALE:GREGORIAN
METHOD:PUBLISH
BEGIN:VEVENT
UID:69e8cb79649fb@leapup.bitshifters.cloud
DTSTAMP:20260422T152201Z
DTSTART:20250409T130000Z
DTEND:20250410T133000Z
SUMMARY:48th ak-adp workshop on 09 and 10 April 2025 in Chemnitz
DESCRIPTION:Technologies usually have a strong application focus and are favoured for specific applications. Atmospheric plasmas stand for special surface functionalisations and have established themselves\, for example\, in the field of ultra-fine cleaning\, adhesion improvement\, disinfection and nano-coating.
LOCATION:Hotel Chemnitzer Hof \, Theaterplatz 4 \, 09111 Chemnitz
END:VEVENT
END:VCALENDAR
