BEGIN:VCALENDAR
VERSION:2.0
PRODID:-//YourOrganization//EventDownload//DE
CALSCALE:GREGORIAN
METHOD:PUBLISH
BEGIN:VEVENT
UID:69e4e1efdf546@leapup.bitshifters.cloud
DTSTAMP:20260419T160847Z
DTSTART:20250826T170000Z
DTEND:20250826T200000Z
SUMMARY:5th KI Stammtisch Life Sciences
DESCRIPTION:How is artificial intelligence changing the life sciences - from research and diagnostics to production?\nThe AI Round Table Life Sciences brings together experts from science\, business and IT for an informal exchange on current developments\, challenges and opportunities in the use of AI in life sciences.\nWhat you can expect:\n\nImpulses from practice\nExchange at eye level\n\nThe regulars' table is aimed in particular at participants in our "AI Guide in the Company" training programme\, but is open to anyone interested in AI from the industry.
LOCATION:SpinLab (Halle 14)\, Spinnereistrasse 7\, 04103 Leipzig
END:VEVENT
END:VCALENDAR
