BEGIN:VCALENDAR
VERSION:2.0
PRODID:-//YourOrganization//EventDownload//DE
CALSCALE:GREGORIAN
METHOD:PUBLISH
BEGIN:VEVENT
UID:69e4ce8dc732d@leapup.bitshifters.cloud
DTSTAMP:20260419T144605Z
DTSTART:20250409T093000Z
DTEND:20250412T123000Z
SUMMARY:65th Congress of the DGP - Pneumology 2025
DESCRIPTION:The DGP Congress offers an annual platform for encounters. The core of the congress is the scientific programme with numerous lectures\, symposia and poster presentations\, where you can exchange professional experiences and the latest research findings. In addition\, you will find events on training\, continuing education and further education for all stages of your professional career - especially aimed at students and young professionals. Forums on professional policy topics enable you to exchange views on the structural conditions of everyday pneumological practice.\nFurther information on the event can be found here.
LOCATION:Congress Center Leipzig\, Seehausener Allee 1\, 04356 Leipzig
END:VEVENT
END:VCALENDAR
