BEGIN:VCALENDAR
VERSION:2.0
PRODID:-//YourOrganization//EventDownload//DE
CALSCALE:GREGORIAN
METHOD:PUBLISH
BEGIN:VEVENT
UID:69e8c9688bce9@leapup.bitshifters.cloud
DTSTAMP:20260422T151312Z
DTSTART:20240430T093000Z
DTEND:20240430T170000Z
SUMMARY:6th Spring Conference - Health insurance in transition
DESCRIPTION:Content\nHealth Insurance Platforms and &Ouml\;cosystems - The Future of Healthcare\n\nFundamentals of platforms and &Ouml\;cosystems\nDigital platforms in the healthcare industry\nArtificial intelligence and emotions: Developing artificial empathy\nFuture prospects and trends\n\nTarget group\nExperts and executives from statutory and private health insurance companies from areas such as corporate development\, corporate strategy\, organisation and processes\, digitalisation\, digital strategy\, process management\, HR management\, IT management\, marketing\, sales and product management. Furthermore\, IT and management consultancies focussing on the &bdquo\;healthcare industry&ldquo\;\, professors and schools in German-speaking countries\, students of the healthcare industry\, start-ups in the healthcare industry and interested stakeholders in the healthcare industry. 
LOCATION:Salles de Pologne Events & Konferenzen\, Konferenzetage — Hainstraße 16\, 04109 Leipzig
END:VEVENT
END:VCALENDAR
