BEGIN:VCALENDAR
VERSION:2.0
PRODID:-//YourOrganization//EventDownload//DE
CALSCALE:GREGORIAN
METHOD:PUBLISH
BEGIN:VEVENT
UID:69e4c849aa718@leapup.bitshifters.cloud
DTSTAMP:20260419T141921Z
DTSTART:20230222T000000Z
DTEND:20230223T000000Z
SUMMARY:7th ECP - The first industry speed dating event
DESCRIPTION:\n\n\n\n\n\n\n\n\n\n\nThe ECP is a unique event which offers an efficient partnering platform to help you find the right business partner in the shortest possible time. The first focus is on tech scouting which helps you to make connections with potential partners that support or share your vision of a sustainable future. Corporates can find new technologies to solve the problems of today and tomorrow. Start-ups and SMEs can engage in dialog with venture capitalists and representatives of industry.\nRegister now!\n\n\n\n\n\n\n\n\n\n\n
LOCATION:AREAL Böhler\, Hansaallee 321\, 40549 Düsseldorf & Online
END:VEVENT
END:VCALENDAR
