BEGIN:VCALENDAR
VERSION:2.0
PRODID:-//YourOrganization//EventDownload//DE
CALSCALE:GREGORIAN
METHOD:PUBLISH
BEGIN:VEVENT
UID:69e8b5e25c0f5@leapup.bitshifters.cloud
DTSTAMP:20260422T134954Z
DTSTART:20250314T123000Z
DTEND:20250315T133000Z
SUMMARY:7th Leipzig Haematology Symposium
DESCRIPTION:Dear Ladies and Gentlemen\,\nThe Leipzig H&auml\;matologie Symposium (LHS)\, to which you are cordially invited on 14 and 15 March 2025 in the Congress Hall at Leipzig Zoo\, has been the central event in the training calendar of H&auml\;matologie Leipzig for years.\nAs usual\, renowned experts from all over Germany will present news from research\, diagnostics and therapy in h&auml\;matology over two days. There will then be a very exciting surprise lecture on Friday evening. 
LOCATION:KONGRESSHALLE am Zoo Leipzig\,  Pfaffendorfer Straße 31\, 04105 Leipzig
END:VEVENT
END:VCALENDAR
