BEGIN:VCALENDAR
VERSION:2.0
PRODID:-//YourOrganization//EventDownload//DE
CALSCALE:GREGORIAN
METHOD:PUBLISH
BEGIN:VEVENT
UID:69e88f0457fd4@leapup.bitshifters.cloud
DTSTAMP:20260422T110404Z
DTSTART:20240409T120000Z
DTEND:20240411T163000Z
SUMMARY:8th BioProScale Symposium 
DESCRIPTION:The BioProScale Symposium is an event on industrial scale bioprocessing with a long scientific tradition. Target groups are experts from research &amp\; development and industrial practice in bioprocessing of pharmaceuticals\, food\, feed and renewables.\nRegister here!
LOCATION:Langenbeck-Virchow-Haus\, Luisenstr. 58/59\, 10117 Berlin-Mitte
END:VEVENT
END:VCALENDAR
