BEGIN:VCALENDAR
VERSION:2.0
PRODID:-//YourOrganization//EventDownload//DE
CALSCALE:GREGORIAN
METHOD:PUBLISH
BEGIN:VEVENT
UID:69e4ce49b1625@leapup.bitshifters.cloud
DTSTAMP:20260419T144457Z
DTSTART:20250820T000000Z
DTEND:20250822T000000Z
SUMMARY:Acoustofluidics 2025 – Innovations in Micro- and Nanoscale Acoustics in Fluids
DESCRIPTION:Hosted at the Leibniz Institute for Solid State and Materials Research (IFW Dresden) this year\, the annual international meeting of the acoustofluidics research society\, Acoustofluidics 2025\, will delve into the latest developments in science and engineering in fluidics with acoustic force fields. Topics include transducer fabrication\, lab-on-a-chip systems\, and applications in biology\, medicine\, and energy. The conference will feature keynote speakers such as Birgit Stiller\, Chuyi Chen\, Zhixiong Gong\, and Minoru K. Kurosawa. Early bird registration is open until May 21\, 2025. Late poster submission is possible.
LOCATION:Leibniz Institute for Solid State and Materials Research (IFW Dresden)\, Helmholtzstr. 20 \, 01069 Dresden
END:VEVENT
END:VCALENDAR
