BEGIN:VCALENDAR
VERSION:2.0
PRODID:-//YourOrganization//EventDownload//DE
CALSCALE:GREGORIAN
METHOD:PUBLISH
BEGIN:VEVENT
UID:69e4cec1a9fd9@leapup.bitshifters.cloud
DTSTAMP:20260419T144657Z
DTSTART:20240424T170000Z
DTEND:20240424T203000Z
SUMMARY:AfterWork "Oh my god it's just Wednesday! But there is beer!" meets MEDICAL FORGE WELCOME WEEK
DESCRIPTION:\nWe cordially invite you to the&nbsp\;AfterWork Network Event&nbsp\;&bdquo\;Oh my god it&rsquo\;s just Wednesday! But there is beer!&ldquo\;&nbsp\;meets MEDICAL FORGE WELCOME WEEK&nbsp\;at BIO CITY LEIPZIG. 
LOCATION:BIO CITY Leipzig\, Deutscher Platz 5\, 04103 Leipzig
END:VEVENT
END:VCALENDAR
