BEGIN:VCALENDAR
VERSION:2.0
PRODID:-//YourOrganization//EventDownload//DE
CALSCALE:GREGORIAN
METHOD:PUBLISH
BEGIN:VEVENT
UID:69e8b5e34f199@leapup.bitshifters.cloud
DTSTAMP:20260422T134955Z
DTSTART:20230629T140000Z
DTEND:20230629T170000Z
SUMMARY:Agile software development for medical devices
DESCRIPTION:In today's constantly evolving healthcare industry\, the development of medical devices\, including medical software\, requires a dynamic and flexible approach. One such approach is agile.\nAgile is a software development methodology that emphasizes collaboration\, iterative development\, and quick response to change.\nIt has proven to be an effective way to develop medical devices that are safe\, effective\, and meet regulatory standards. This approach is especially useful in the development of complex medical devices that require frequent updates and modifications to meet changing market needs.\nAgile enables developers to quickly prototype and test medical devices\, identify potential issues early on\, and refine them in a collaborative and iterative manner. This approach also allows for better quality control and faster time-to-market.\nBut is this approach compliant to regulatory requirements as stated by the US FDA and the legislation EU MDR?\nIn our online event\, we discuss which relevant requirements for medical software can be implemented in an agile development environment and in what way\, and how development teams can implement them.\nWe will have a focus on standard IEC 62304AM1 and learn how the US standard AAMI TIR 45 guides us on the use of agile practices in the development of medical device software.\nTarget audience:\nEmployees of medical technology companies\, involved in the development of medical device.\nMORE
LOCATION:MS Teams\, Offenbach am Main
END:VEVENT
END:VCALENDAR
