BEGIN:VCALENDAR
VERSION:2.0
PRODID:-//YourOrganization//EventDownload//DE
CALSCALE:GREGORIAN
METHOD:PUBLISH
BEGIN:VEVENT
UID:69e8b6008e9af@leapup.bitshifters.cloud
DTSTAMP:20260422T135024Z
DTSTART:20241126T090000Z
DTEND:20241126T163000Z
SUMMARY:AI expertise: ChatGPT practice for companies
DESCRIPTION:Deepens your understanding and practical skills in dealing with Artificial Intelligence and Generative AI systems through a comprehensive introduction to Large Language Models such as ChatGPT. This workshop provides an overview of the basics of AI\, legal frameworks and effective prompt engineering\, complemented by interactive application practice and exploration of advanced features of ChatGPT Plus and more advanced AI tools.\nAs an expert in IoT and artificial intelligence (AIoT)\, Fatlinda Nikqi has extensive experience in change management and digital transformation. She runs workshops that promote digital skills and values such as openness\, resilience and social responsibility. She has also been involved in digital education for many years and has gained a lot of experience in the field of e-learning. Her background as a child of immigrants has taught her to overcome uncertainties and appreciate new perspectives. Fatlinda Nikqi is committed to ensuring that no one is left behind in the digital transformation and is looking forward to passing on her motivation as a lecturer or consultant.\nImportant notes: \nPlease bring your own laptop and register in advance at ChatGPT.\nThis event is chargeable!\nMembers: EUR 550.00 (net)NON-members: EUR 600.00 (net)\nRegister now!
LOCATION:BIO CITY Leipzig\, Deutscher Platz 5\, 04103 Leipzig
END:VEVENT
END:VCALENDAR
