BEGIN:VCALENDAR
VERSION:2.0
PRODID:-//YourOrganization//EventDownload//DE
CALSCALE:GREGORIAN
METHOD:PUBLISH
BEGIN:VEVENT
UID:69e8ccb5a813f@leapup.bitshifters.cloud
DTSTAMP:20260422T152717Z
DTSTART:20250923T090000Z
DTEND:20250923T163000Z
SUMMARY:AI expertise: ChatGPT practice for companies
DESCRIPTION:About: Deepen your understanding and practical skills in dealing with Artificial Intelligence and Generative AI systems through a comprehensive introduction to Large Language Models such as ChatGPT. This workshop provides an overview of the fundamentals of AI\, legal frameworks and effective prompt engineering\, complemented by interactive application practice and exploration of advanced features of ChatGPT Plus and more advanced AI tools.
LOCATION:BIO CITY Leipzig\, Deutscher Platz 5c\, 04103 Leipzig
END:VEVENT
END:VCALENDAR
