BEGIN:VCALENDAR
VERSION:2.0
PRODID:-//YourOrganization//EventDownload//DE
CALSCALE:GREGORIAN
METHOD:PUBLISH
BEGIN:VEVENT
UID:69e4e1f064419@leapup.bitshifters.cloud
DTSTAMP:20260419T160848Z
DTSTART:20250127T110000Z
DTEND:20250130T170000Z
SUMMARY:ARAB HEALTH 
DESCRIPTION:Arab Health 2025\, the leading healthcare exhibition in the Middle East\, will take place from January 27 to 30\, 2025 at the Dubai World Trade Center. It celebrates its 50th anniversary and expects over 60\,000 trade visitors and 3\,800 exhibitors from more than 70 countries.\nThe event offers:\n\nInnovation zones on key healthcare topics.\nTwelve specialist conferences\, including on radiology\, surgery and patient safety.\nNetworking platforms to establish contacts and form partnerships.\n\nEarly bird discounts are available until December 9\, 2024.\nRegister now!
LOCATION:Dubai World Trade Centre\, Sheikh Zayed Rd Trade Centre 2 \, Dubai
END:VEVENT
END:VCALENDAR
