BEGIN:VCALENDAR
VERSION:2.0
PRODID:-//YourOrganization//EventDownload//DE
CALSCALE:GREGORIAN
METHOD:PUBLISH
BEGIN:VEVENT
UID:69e8ccda56580@leapup.bitshifters.cloud
DTSTAMP:20260422T152754Z
DTSTART:20230703T170000Z
DTEND:20230703T000000Z
SUMMARY:Bayer's Expert Mondays - Knowledge Sharing to Empower Your Innovation Journey
DESCRIPTION:Theme: "Growing your innovation or startup: Alternative Financing Possibilities: Creative Ways to Bridge the 'Valley of Death' "\nAs companies work through biotech's notorious 'Valley of Death' in a constricting economic environment\, incorporating less conventional financing mechanisms may be critical to surviving and thriving\, from discovery to reaching your value inflection point.\nRegister here!\n
END:VEVENT
END:VCALENDAR
