BEGIN:VCALENDAR
VERSION:2.0
PRODID:-//YourOrganization//EventDownload//DE
CALSCALE:GREGORIAN
METHOD:PUBLISH
BEGIN:VEVENT
UID:69e8c8189c656@leapup.bitshifters.cloud
DTSTAMP:20260422T150736Z
DTSTART:20230717T170000Z
DTEND:20230717T000000Z
SUMMARY:Bayer's Expert Mondays - Knowledge Sharing to Empower Your Innovation Journey
DESCRIPTION:Theme: "Growing your innovation or startup: Medical Need - A Definition Challenge to Shape Your Value Proposition"\nMedical need is central to every innovation program in the life science industry. With the TPP and the CDP\, the clear outline of the medical need addressed by your innovation is critical for painting and communicating your therapeutic goal and value proposition. However\, no unified methodology exists. We will discuss and outline not only the need for clarity in communication around medical need but also provide one possible approach for clarity.\nRegister here!\n
END:VEVENT
END:VCALENDAR
