BEGIN:VCALENDAR
VERSION:2.0
PRODID:-//YourOrganization//EventDownload//DE
CALSCALE:GREGORIAN
METHOD:PUBLISH
BEGIN:VEVENT
UID:69e8c818aac4e@leapup.bitshifters.cloud
DTSTAMP:20260422T150736Z
DTSTART:20230731T170000Z
DTEND:20230731T000000Z
SUMMARY:Bayer's Expert Mondays - Knowledge Sharing to Empower Your Innovation Journey
DESCRIPTION:Theme: "Growing your innovation or startup: Gating Decisions and How to Take the Right Ones"\nBased on predefined decision criteria\, project risks and opportunities balanced with competitive information must be evaluated carefully from the preclinical stage onwards. Follow our Project Management expert on key considerations of go/no-go decisions along the different stages of your development!\nRegister here!\n
END:VEVENT
END:VCALENDAR
