BEGIN:VCALENDAR
VERSION:2.0
PRODID:-//YourOrganization//EventDownload//DE
CALSCALE:GREGORIAN
METHOD:PUBLISH
BEGIN:VEVENT
UID:69e8c8187192e@leapup.bitshifters.cloud
DTSTAMP:20260422T150736Z
DTSTART:20230904T170000Z
DTEND:20230904T000000Z
SUMMARY:Bayer's Expert Mondays - Knowledge Sharing to Empower Your Innovation Journey
DESCRIPTION:Theme: "Growing your innovation or startup: Spotlight on the Public/EU Grant Landscape"\nThis session highlights the Private Public Partnership (PPP) and EU funding ladscape. What are the pros and cons of funding from PPP? What opportunities exist in Europe? How can companies pursure options to unleash funding in a constricting economic environment?\nRegister here!\n
END:VEVENT
END:VCALENDAR
