BEGIN:VCALENDAR
VERSION:2.0
PRODID:-//YourOrganization//EventDownload//DE
CALSCALE:GREGORIAN
METHOD:PUBLISH
BEGIN:VEVENT
UID:69e8c9da0eaa2@leapup.bitshifters.cloud
DTSTAMP:20260422T151506Z
DTSTART:20230918T170000Z
DTEND:20230918T000000Z
SUMMARY:Bayer's Expert Mondays - Knowledge Sharing to Empower Your Innovation Journey
DESCRIPTION:Theme: "Growing your innovation or startup: Your Roadmap through the EU Regulatory Jungle"\nLearn what to expect on your way through the regulatory world when developing a drug. The focus will be on EU regulatory compared to the UK and Swiss environments. It will cover medicinal product development.\nRegister here!\n
END:VEVENT
END:VCALENDAR
