BEGIN:VCALENDAR
VERSION:2.0
PRODID:-//YourOrganization//EventDownload//DE
CALSCALE:GREGORIAN
METHOD:PUBLISH
BEGIN:VEVENT
UID:69e4ce42e75a7@leapup.bitshifters.cloud
DTSTAMP:20260419T144450Z
DTSTART:20231009T170000Z
DTEND:20231009T000000Z
SUMMARY:Bayer's Expert Mondays - Knowledge Sharing to Empower Your Innovation Journey
DESCRIPTION:Theme: "Growing your innovation or startup: Why Early Market Access Planning is a Good Investment &amp\; 10-min. deep-dive on Cell &amp\; Gene"\nThe divergence in evidence requirements betweent regulators. Health Techology Assessment Bodies\, or Payers can create a challenging situation for manufacturers. Balancing the needs of both parties becomes crucial\, especially when pivotal clinical trials are already underway. In such circumstances\, there is limited flexibility to make adjustments or address potential evidence requirements that can unlolck the product's true potential in pricing and reimbursement.\nRegister here!\n
END:VEVENT
END:VCALENDAR
