BEGIN:VCALENDAR
VERSION:2.0
PRODID:-//YourOrganization//EventDownload//DE
CALSCALE:GREGORIAN
METHOD:PUBLISH
BEGIN:VEVENT
UID:69e4ce4339541@leapup.bitshifters.cloud
DTSTAMP:20260419T144451Z
DTSTART:20231016T170000Z
DTEND:20231016T000000Z
SUMMARY:Bayer's Expert Mondays - Knowledge Sharing to Empower Your Innovation Journey
DESCRIPTION:Theme: "Growing your innovation or startup: How to Set Up a Credible Business Case"\nA credible business case is crucial for a start-up to attract potential investors\, build trust and credibility with stakeholders\, build a roadmap for strategic decisions\, secure regulatory approvals\, and develop robust commercialization plans. Follow our valuation expert lon how to set up a credible business case and what is a clear and compelling rationale for investors.\nRegister here!\n
END:VEVENT
END:VCALENDAR
