BEGIN:VCALENDAR
VERSION:2.0
PRODID:-//YourOrganization//EventDownload//DE
CALSCALE:GREGORIAN
METHOD:PUBLISH
BEGIN:VEVENT
UID:69e8a9cdbc714@leapup.bitshifters.cloud
DTSTAMP:20260422T125821Z
DTSTART:20231023T170000Z
DTEND:20231023T000000Z
SUMMARY:Bayer's Expert Mondays - Knowledge Sharing to Empower Your Innovation Journey
DESCRIPTION:Theme: "Growing your innovation or startup: Leaps @ Bayer: Funding the 10 Leaps"\nAcross healthcare and agriculture\, Leaps @ Bayer aims to conquer huge challenges facing humanity\, such as reducing the environmental impact of agriculture or curing genetic diseases. These '10 Leaps' build the framework for Leaps' impact investment strategy. Listen in to learn more about Leaps' investment strategy.\nRegister here!\n
END:VEVENT
END:VCALENDAR
