BEGIN:VCALENDAR
VERSION:2.0
PRODID:-//YourOrganization//EventDownload//DE
CALSCALE:GREGORIAN
METHOD:PUBLISH
BEGIN:VEVENT
UID:69e8c818a4884@leapup.bitshifters.cloud
DTSTAMP:20260422T150736Z
DTSTART:20231113T170000Z
DTEND:20231113T000000Z
SUMMARY:Bayer's Expert Mondays - Knowledge Sharing to Empower Your Innovation Journey
DESCRIPTION:Theme: "Growing your innovation or startup: Business Process of Due Diligence @ Big Pharma: - Why do they need so many documents &amp\; what&acute\;s in it for you?"\nFollow our Due Diligence (DD) experts on a journey through the due diligence process\, including when and why all this information and documentation is needed and what's in it for you during this process (e.g.\, building relationships\, getting mentorship and support at an early stage). Meet the experts from our Bayer DD Center of Excellence.\nRegister here!\n
END:VEVENT
END:VCALENDAR
