BEGIN:VCALENDAR
VERSION:2.0
PRODID:-//YourOrganization//EventDownload//DE
CALSCALE:GREGORIAN
METHOD:PUBLISH
BEGIN:VEVENT
UID:69e8c96dac158@leapup.bitshifters.cloud
DTSTAMP:20260422T151317Z
DTSTART:20231106T170000Z
DTEND:20231106T000000Z
SUMMARY:Bayer's Expert Mondays - Knowledge Sharing to Empower Your Innovation Journey
DESCRIPTION:Theme: "Growing your innovation or startup: Panel Session - Recipes for Successful Biotech &amp\; Big Pharma Partnerships"\nJoin the live panel session on-site at BIO-Europe.\nRegister here!\n
END:VEVENT
END:VCALENDAR
