BEGIN:VCALENDAR
VERSION:2.0
PRODID:-//YourOrganization//EventDownload//DE
CALSCALE:GREGORIAN
METHOD:PUBLISH
BEGIN:VEVENT
UID:69e8c9730259c@leapup.bitshifters.cloud
DTSTAMP:20260422T151323Z
DTSTART:20231204T170000Z
DTEND:20231204T000000Z
SUMMARY:Bayer's Expert Mondays - Knowledge Sharing to Empower Your Innovation Journey
DESCRIPTION:Theme: "Growing your innovation or startup: How to Build and Maintain a Successful Partnership &amp\; Bayer's Partnership Models"\nThe idea of signing with a bis pharmaceutical company makes you nervous? Don't know what to expect? Our experts will share which key factors are helpful for a successful partnership based on years of experience in alliance management. At Bayer\, we strongly believe that there is nol one-size-fits-all solution and that creativity and flexibility in deal structures and innovative\, tailored business models are crucial to te success of a partnership.\nRegister here!\n
END:VEVENT
END:VCALENDAR
