BEGIN:VCALENDAR
VERSION:2.0
PRODID:-//YourOrganization//EventDownload//DE
CALSCALE:GREGORIAN
METHOD:PUBLISH
BEGIN:VEVENT
UID:69e8c9da110bc@leapup.bitshifters.cloud
DTSTAMP:20260422T151506Z
DTSTART:20231211T170000Z
DTEND:20231211T000000Z
SUMMARY:Bayer's Expert Mondays - Knowledge Sharing to Empower Your Innovation Journey
DESCRIPTION:Theme: "Growing your innovation or startup: Co.Lab Berlin - Bayer&acute\;s Incubator Program &amp\; Modality Platform"\nBayer Co.Lab is much mlore than just a collaboration and lab space. Meet the head of the Bayer Berlin Co.Lab\, and learn more about the refurbishing status of our brand-new Co.Lab in Berlin\, which is scheduled to open in H1 2024. Disvover how to grab your space amongst brilliant minds!\nRegister here!\n
END:VEVENT
END:VCALENDAR
