BEGIN:VCALENDAR
VERSION:2.0
PRODID:-//YourOrganization//EventDownload//DE
CALSCALE:GREGORIAN
METHOD:PUBLISH
BEGIN:VEVENT
UID:69e8b601781e3@leapup.bitshifters.cloud
DTSTAMP:20260422T135025Z
DTSTART:20250512T000000Z
DTEND:20250514T000000Z
SUMMARY:Bio Equity Europe 2025 
DESCRIPTION:BioEquity Europe 2025 will take place from May 12-14\, 2025 in Bruges\, Belgium\, with digital partnering days on May 20 and 21\, 2025. As a leading platform\, the event brings together investors\, biopharma executives and emerging biotech companies.\nHighlights:\n\nPartnering: Targeted networking and collaboration opportunities.\nHybrid format: Face-to-face event in Bruges and digital options.\nFocus: Investment and innovation in the biotech sector.\n\nMore information here!
LOCATION:Bruges Meeting & Convention Centre (BMCC)\, Sint-Maartensbilk 1\, 8000  Brugge
END:VEVENT
END:VCALENDAR
