BEGIN:VCALENDAR
VERSION:2.0
PRODID:-//YourOrganization//EventDownload//DE
CALSCALE:GREGORIAN
METHOD:PUBLISH
BEGIN:VEVENT
UID:69e8ccda64d17@leapup.bitshifters.cloud
DTSTAMP:20260422T152754Z
DTSTART:20240318T080000Z
DTEND:20240320T170000Z
SUMMARY:BIO-Europe Spring® - 18th Annual International Partnering Conference
DESCRIPTION:It&rsquo\;s time once again to network and facilitate partnerships face-to-face at the premier springtime event for the life science industry. The eighteenth annual BIO-Europe Spring&reg\; premier springtime partnering conference is back in-person and will be taking place March 18-20\, 2024\, in Barcelona\, Spain\nBuilding and nurturing relationships is an essential part of the progression of successful business partnerships. BIO-Europe Spring 2024 will offer a fusion of innovative digital solutions and a vibrant onsite event of unprecedented scope.\nExpanding on the success of EBD Group&rsquo\;s flagship conference\, BIO-Europe&reg\;\, BIO-Europe Spring will bring together over 3\,700 leading executives from around the world. Specifically\, we will host more than 20\,000 partnering meetings to connect leaders from academia\, start-up\, and scale-up biotech companies with forward-thinking investors and pharma companies. Along with world-class workshops and panels\, innovative company presentations\, active exhibition and a variety of networking opportunities make this event an unrivalled forum for companies across the biotech value chain to meet and do business.\nOur partnering platform\, partneringONE&reg\;\, continues to be the gold standard of complete access. Using ONE login\, delegates can experience the entire event from anywhere\, including one-to-one meetings and conference activities. Scheduled meetings will take place face-to-face during the conference days as well as digitally during the digital partnering days with links to a video conferencing solution. Additionally\, on demand content will be made available leading up to the event as well as during the digital days. \nTogether with the Biotechnology Innovation Organization (BIO)\, EBD Group is thrilled to welcome you back to this &ldquo\;must-attend&rdquo\; springtime partnering event&mdash\;making it a special reunion for some and new beginnings for others.&nbsp\;&nbsp\;\nFor more information and online registration please visit our conference website at https://informaconnect.com/bioeurope-spring/&nbsp\;
LOCATION:CCIB Barcelona\, Plaça de Willy Brandt 11-14\, 08019 Barcelona
END:VEVENT
END:VCALENDAR
