BEGIN:VCALENDAR
VERSION:2.0
PRODID:-//YourOrganization//EventDownload//DE
CALSCALE:GREGORIAN
METHOD:PUBLISH
BEGIN:VEVENT
UID:69e4eaed34780@leapup.bitshifters.cloud
DTSTAMP:20260419T164709Z
DTSTART:20240807T150000Z
DTEND:20240807T170000Z
SUMMARY:Bioluminescent Reporter Assays for Cellular Responses and Metabolism
DESCRIPTION:This seminar will provide an in-depth overview of state-of-the-art detection methods critical for the assessment of cell viability\, cytotoxicity\, and apoptosis. You will also discover innovative bioluminescent assays for detecting major cellular metabolites.\nPresented by Dr. Erik Bonke\, Sr Scientific Application Specialist Cellular Reporters at Promega GmbH\, this seminarwill cover the following key topics:\n\nCell Viability: Reviews pros and cons of viability markers to help select the best for your research needs.\nCytotoxicity: Highlights common hurdles with cytotoxicity assays and introduces techniques to increase data consistency.\nApoptosis: Examines assays and strategies for in-dept study of programmed cell death\, illustrating how they contribute to understanding cellular responses\n Cellular Metabolism: Focuses on the core principle of Promega's bioluminescent assays and their broad research applications.\n\nWe warmly welcome all interested scientists\, technical assistants and students to this free seminar!In addition to the interesting presentation\, there will be enough time to answer your questions and to network.\nRegister here!
LOCATION:BIO CITY Leipzig | Atrium (ground floor)\, Conference room 2\, Deutscher Platz 5\, 04103 Leipzig
END:VEVENT
END:VCALENDAR
