BEGIN:VCALENDAR
VERSION:2.0
PRODID:-//YourOrganization//EventDownload//DE
CALSCALE:GREGORIAN
METHOD:PUBLISH
BEGIN:VEVENT
UID:69e4c840d1cfb@leapup.bitshifters.cloud
DTSTAMP:20260419T141912Z
DTSTART:20250123T160027Z
DTEND:20250123T210027Z
SUMMARY:biosaxony New Year's reception 2025
DESCRIPTION:We cordially invite you on Thursday\, 23 January 2025&nbsp\;from 16:00&nbsp\;to our&nbsp\;biosaxony&nbsp\;New Year's Reception&nbsp\;at the&nbsp\;BioInnovationsZentrum Dresden&nbsp\;.\n\nOn this occasion we would like to introduce our new members\, get into conversation with each other and toast to a successful new year together with you.\nThe number of participants for the event is limited.\nRegistration deadline: 16 January 2025\nFor registration\nPlease note:\nThe event is free of charge for our members and cooperation partners .\nWe look forward to seeing you!&nbsp\;Your biosaxony team\n\n
LOCATION:BioInnovationsZentrum Dresden\, Tatzberg 47\, 01307 Dresden
END:VEVENT
END:VCALENDAR
