BEGIN:VCALENDAR
VERSION:2.0
PRODID:-//YourOrganization//EventDownload//DE
CALSCALE:GREGORIAN
METHOD:PUBLISH
BEGIN:VEVENT
UID:69e8a2ea6c649@leapup.bitshifters.cloud
DTSTAMP:20260422T122858Z
DTSTART:20230424T000000Z
DTEND:20230425T000000Z
SUMMARY:BIOVARIA
DESCRIPTION:\n\nBioVaria targets technology scouts\, business developers and investors highlighting commercially attractive licensing opportunities and promising startups from across Europe.This unique event brings together Europe&lsquo\;s leading tech transfer professionals\, innovators from academia and startups with investors and representatives of the global biotech and pharma industry.\n\nscientists\, technology transfer professionals\, investors and industry scouts\nEuropean technology transfer organizations presenting commercially attractive licensable technologies&nbsp\;and partnership opportunities\n&sbquo\;Startup Pitch &amp\; Partner&lsquo\; featuring some of Europe&rsquo\;s most promising startups\ndiscussions with the inventors\n\nRegister now!\n\n
LOCATION:Sofitel Munich Bayerpost\, Bayerstraße 12\, 80335 Munich
END:VEVENT
END:VCALENDAR
