BEGIN:VCALENDAR
VERSION:2.0
PRODID:-//YourOrganization//EventDownload//DE
CALSCALE:GREGORIAN
METHOD:PUBLISH
BEGIN:VEVENT
UID:69e8b9a53d522@leapup.bitshifters.cloud
DTSTAMP:20260422T140557Z
DTSTART:20240924T134500Z
DTEND:20240924T160000Z
SUMMARY:Charging Up: The impact of the European Battery Regulation on medical device manufacturers and suppliers
DESCRIPTION:In December 2020\, the European Commission presented the draft for a new Battery Regulation (BattVO\, (EU) 2023/1542). This came into force in August 2023 and has been in force in the Member States since February 2024. The new regulation regulates the battery market much more comprehensively and contains provisions on due diligence obligations in the supply chain\, restrictions on hazardous substances\, product design requirements such as the interchangeability of batteries\, CO2 footprint\, quotas for the use of recycled materials and the battery passport\, as well as the collection and treatment of waste batteries.\nIn our event\, RA Michael &Ouml\;ttinger (Produktkanzlei\, Augsburg) will explain the obligations arising from the BattVO for medical device manufacturers and their suppliers.&nbsp\;&nbsp\;\nIn the second presentation\, Dr Michael Riess (VDE Pr&uuml\;f- und Zertifizierungsinstitut GmbH\, Offenbach/Main) will discuss material restrictions and the carbon footprint of batteries.&nbsp\;\nWe look forward to your participation!\nMORE
LOCATION:MS Teams\, Offenbach
END:VEVENT
END:VCALENDAR
