BEGIN:VCALENDAR
VERSION:2.0
PRODID:-//YourOrganization//EventDownload//DE
CALSCALE:GREGORIAN
METHOD:PUBLISH
BEGIN:VEVENT
UID:69e4cefc59ed0@leapup.bitshifters.cloud
DTSTAMP:20260419T144756Z
DTSTART:20241203T120000Z
DTEND:20241203T153000Z
SUMMARY:Christmas market in the foyer of BIO CITY
DESCRIPTION:While strolling through the Christmas donation market\, you can get in the mood for the Christmas season and buy creative items from our own production\, jams\, liqueurs\, sweets and much more from employees of BIO CITY and other facilities of the BioCity Campus at numerous colourful stalls.\nThe proceeds from the&nbsp\;Christmas marketwill be donated to the TiMMi ToHelp e. V. will be donated. The organisation supports socially disadvantaged people at eye level. 
LOCATION:BIO CITY Leipzig\,  Deutscher Platz 5\, 04103 Leipzig
END:VEVENT
END:VCALENDAR
