BEGIN:VCALENDAR
VERSION:2.0
PRODID:-//YourOrganization//EventDownload//DE
CALSCALE:GREGORIAN
METHOD:PUBLISH
BEGIN:VEVENT
UID:69e4e7b924c8b@leapup.bitshifters.cloud
DTSTAMP:20260419T163329Z
DTSTART:20250408T150000Z
DTEND:20250408T183000Z
SUMMARY:Community Forum reAIlize on 8 April 2025
DESCRIPTION:Are you ready to discover the possibilities of artificial intelligence in your company?\nOn 8 April 2025 from 3 to approx. 6.30 pm\, we cordially invite you to the reAIlize&nbsp\;Community Forum. Here we will answer key questions: How do you find the right idea for the profitable use of AI? How can you overcome the concerns of employees and/or management? And what has become of the use cases from the AI ideas competition &raquo\;reAIlize&laquo\;?\nYou can look forward to exciting presentations and two parallel workshops that will offer you insights into numerous use cases from the reAIlize competition on the focus topics of condition monitoring and energy &amp\; sustainability. Be inspired by practical examples and find out which requirements must be met in order to successfully implement AI. Other highlights include the presentation of the reAIlize-winning use case &raquo\;TAIA &ndash\; Testing AI Assistant&laquo\; by tracetronic GmbH and the lab tour through the energy and robotics laboratory of Fraunhofer IIS in Dresden.\nJoin us\, engage in dialogue with pioneers\, experts\, practitioners and researchers and get started with AI in your company.\nFor more information on the event and to register\, click here.
LOCATION:Fraunhofer IIS\, Institutsteil Entwicklung Adaptiver Systeme EAS\, Münchner Straße 16 \, 01187 Dresden
END:VEVENT
END:VCALENDAR
