BEGIN:VCALENDAR
VERSION:2.0
PRODID:-//YourOrganization//EventDownload//DE
CALSCALE:GREGORIAN
METHOD:PUBLISH
BEGIN:VEVENT
UID:69e8c9be758b0@leapup.bitshifters.cloud
DTSTAMP:20260422T151438Z
DTSTART:20250902T140000Z
DTEND:20250902T160000Z
SUMMARY:Competence Network Sterile Technology Meeting | "Biomaterials & Sterilisation: Standards\, Strategies\, Solutions"
DESCRIPTION:The sterilisation of biomaterials is a crucial step in the manufacture of safe and reliable medical devices. Prescribed standards play a central role in ensuring the effectiveness of the sterilisation process and the integrity of the materials. The choice of suitable sterilisation strategies must always be individually adapted to the specific properties of the biomaterial and the subsequent intended use.\nIn the area of conflict between material compatibility\, sterility assurance and regulatory requirements\, practice-orientated solutions are needed that meet the high quality requirements. Modern approaches and optimised processes can shorten development times and accelerate the market launch of new products.\nWe would like to continue to raise awareness of this topic as part of the Sterile Technology Competence Network.\nTherefore\, we cordially invite you to our next event on 2 September 2025 on the topic of Biomaterials &amp\; Sterilisation: Standards\, Strategies\, Solutions.\nREGISTER NOW: Biomaterials &amp\; Sterilisation: Standards\, Strategies\, Solutions | 02.09.2025 | 14:00\nAgenda\n\nWelcome: (Dr. Carola Graf | Dr. Romina Piscitello Gómez (leap:up GmbH) and Dr.Ing. Gaby Gotzmann (Fraunhofer FEP)\nLecture: Dr. Ina Prade (FILK Freiberg Institute gGmbH) - "Bioactive and yet sterile: Innovative processes for modern biomaterials"\nPresentation: Dr. Sylke Roth-Eichhorn (Dresden | GSK Germany) - "GMP Annex 1-compliant sterile filtration in the filling of vaccines"\nTour FILK Freiberg Institute gGmbH: Dr. Birgit Voigt - Institute tour for the bio areas\n\nLet's create together an open space for discussion\, networking and exchange of professional information on the topic. We look forward to welcoming you to our networking event and would also like to thank our host this time\, FILK Freiberg Institute gGmbH.\nThe event is free of charge.
LOCATION:FILK Freiberg Institute gGmbH\, Raum A1_201\, Meißner Ring 1-5\, 09599 Freiberg
END:VEVENT
END:VCALENDAR
