BEGIN:VCALENDAR
VERSION:2.0
PRODID:-//YourOrganization//EventDownload//DE
CALSCALE:GREGORIAN
METHOD:PUBLISH
BEGIN:VEVENT
UID:69e8c9be63649@leapup.bitshifters.cloud
DTSTAMP:20260422T151438Z
DTSTART:20241128T140000Z
DTEND:20241128T170000Z
SUMMARY:Connecting Health: Best practices for the networked hospital
DESCRIPTION:The networked hospital\, often referred to as a &ldquo\;smart hospital&rdquo\;\, is a central component of the ongoing digitalisation of the healthcare system. Patient care is being improved through the use of state-of-the-art technologies such as artificial intelligence\, digital patient records\, wearables and networked medical devices. These innovations not only enable more efficient and precise treatment\, but also relieve the burden on medical staff and improve workflows in clinics.
LOCATION:MS Teams\, Offenbach
END:VEVENT
END:VCALENDAR
