BEGIN:VCALENDAR
VERSION:2.0
PRODID:-//YourOrganization//EventDownload//DE
CALSCALE:GREGORIAN
METHOD:PUBLISH
BEGIN:VEVENT
UID:69e8c9d41ff69@leapup.bitshifters.cloud
DTSTAMP:20260422T151500Z
DTSTART:20240905T170000Z
DTEND:20240905T210000Z
SUMMARY:Cost reduction and procurement optimisation with high-quality suppliers from best-cost regions
DESCRIPTION:The speakers will use current examples to show you cost reduction potentials of up to 30% below comparable procurement from the Central European market environment\, depending on the product groups\, especially for: 
LOCATION:HEUKING Chemnitz\, Weststraße 16\, 09112 Chemnitz
END:VEVENT
END:VCALENDAR
