BEGIN:VCALENDAR
VERSION:2.0
PRODID:-//YourOrganization//EventDownload//DE
CALSCALE:GREGORIAN
METHOD:PUBLISH
BEGIN:VEVENT
UID:69e8a2e8bd281@leapup.bitshifters.cloud
DTSTAMP:20260422T122856Z
DTSTART:20251127T130000Z
DTEND:20251127T150000Z
SUMMARY:Crashcourse MDR/IVDR 
DESCRIPTION:\n\nContents: \n\n\n\n\nThe Regulation and Basis Principles \n\n\n\n\n\n\nEconomic Operators \n\n\n\n\n\n\nAnnex I: Generl Safety and Performance Requirements – Selection of harmonized standards \n\n\n\n\n\n\nQuality Management System \n\n\n\n\n\n\nAnnex II/III: Requirements for the content and scope of the technical documentation \n\n\n\n\n\n\nClinical Evaluation \n\n\n\n\n\n\nPost-Market Surveillance (PMS) \n\n\n\n\n\n\nMedical Device Regulation and Reporting Requirements\; labelling\, traceability (UDI\, EUDAMED) \n\n\n\n\n\n\nspeaker: Dr. Katja Krempler \ncosts: 50€ members\, 100€ non-members\n\n
END:VEVENT
END:VCALENDAR
