BEGIN:VCALENDAR
VERSION:2.0
PRODID:-//YourOrganization//EventDownload//DE
CALSCALE:GREGORIAN
METHOD:PUBLISH
BEGIN:VEVENT
UID:69e8e1f24a058@leapup.bitshifters.cloud
DTSTAMP:20260422T165754Z
DTSTART:20241008T140000Z
DTEND:20241008T160000Z
SUMMARY:Cybersecurity in the healthcare sector: Requirements for medical device manufacturers and clinics as part of the critical infrastructure
DESCRIPTION:Digitalisation in the healthcare sector offers enormous potential. Unfortunately\, however\, there are also increasing reports of cyber security incidents in clinics. As a result\, these medical facilities are coming into focus as critical infrastructure.
END:VEVENT
END:VCALENDAR
