BEGIN:VCALENDAR
VERSION:2.0
PRODID:-//YourOrganization//EventDownload//DE
CALSCALE:GREGORIAN
METHOD:PUBLISH
BEGIN:VEVENT
UID:69e89f7e0df7e@leapup.bitshifters.cloud
DTSTAMP:20260422T121422Z
DTSTART:20250408T000000Z
DTEND:20250410T000000Z
SUMMARY:DMEA 2025
DESCRIPTION:The DMEA 2025\, Europe's leading trade fair for digital healthcare\, will take place from 8 to 10 April 2025 at the exhibition grounds in Berlin. It offers:\n\nExhibition with over 800 exhibitors from the digital health sector.\nCongress programme with expert presentations and workshops on health IT.\nNetworking and young talent programmes such as DMEA sparks and DMEA nova Award.\nTickets from 229 &euro\; for trade visitors and 29 &euro\; for students.\n\nThe DMEA is a central platform for innovation\, exchange and networking in the digital healthcare industry.\nBook your ticket and/or plan your stand!
LOCATION:Messegelände Berlin ExpoCenter City | Eingang Messe-Süd (Jafféstraße)\, Messedamm 22\, 14055 Berlin 
END:VEVENT
END:VCALENDAR
