BEGIN:VCALENDAR
VERSION:2.0
PRODID:-//YourOrganization//EventDownload//DE
CALSCALE:GREGORIAN
METHOD:PUBLISH
BEGIN:VEVENT
UID:69e4c8409c790@leapup.bitshifters.cloud
DTSTAMP:20260419T141912Z
DTSTART:20240409T101500Z
DTEND:20240411T150000Z
SUMMARY:DMEA - Connecting Digital Health
DESCRIPTION:What is driving healthcare IT today and tomorrow? DMEA 2024 provides answers to these and many other questions with its extensive programme of presentations\, discussions and workshops. On the stage\, you will meet experts from politics\, science and practice.
LOCATION:Messe Berlin GmbH | Eingang Messe-Süd\, Messedamm 22\, 14055 Berlin
END:VEVENT
END:VCALENDAR
