BEGIN:VCALENDAR
VERSION:2.0
PRODID:-//YourOrganization//EventDownload//DE
CALSCALE:GREGORIAN
METHOD:PUBLISH
BEGIN:VEVENT
UID:69e8c92fe08f0@leapup.bitshifters.cloud
DTSTAMP:20260422T151215Z
DTSTART:20241111T000000Z
DTEND:20241112T000000Z
SUMMARY:EFDS-WEBINAR "PFAS in thin film & surface technology | challenges & sustainable alternatives"
DESCRIPTION:
LOCATION:Online-Veranstaltung\, via MS Teams\, -
END:VEVENT
END:VCALENDAR
