BEGIN:VCALENDAR
VERSION:2.0
PRODID:-//YourOrganization//EventDownload//DE
CALSCALE:GREGORIAN
METHOD:PUBLISH
BEGIN:VEVENT
UID:69e633645b5cb@leapup.bitshifters.cloud
DTSTAMP:20260420T160836Z
DTSTART:20240603T173000Z
DTEND:20240603T193000Z
SUMMARY:(e)Health made in Saxony
DESCRIPTION:\nSpinLab - The HHL-Accelerator\, biosaxony e. V. and AOK PLUS cordially invite you to the discussion round "(e)Health made in Saxony" at @SpinLab Leipzig.\n\nHow can future technologies and innovative companies in the field of health be promoted in Saxony?\nWhat health and care policy ideas and impulses do the parties want to implement in the next legislative period?\nWhat role can digital applications play in the medical care of tomorrow?\n\nAfterwards\, visitors will have the opportunity to ask questions to the party representatives and actively participate in the discussion. Be part of this important debate and help shape the future of healthcare in Saxony!\nClick here for free registration and the full agenda
LOCATION:SpinLab - The HHL Accelerator\, Spinnereistraße 7\, 04179 Leipzig
END:VEVENT
END:VCALENDAR
